BEGIN:VCALENDAR
VERSION:2.0
PRODID:-//The Electric Belle - ECPv6.6.4.2//NONSGML v1.0//EN
CALSCALE:GREGORIAN
METHOD:PUBLISH
X-ORIGINAL-URL:https://theelectricbelle.com
X-WR-CALDESC:Events for The Electric Belle
REFRESH-INTERVAL;VALUE=DURATION:PT1H
X-Robots-Tag:noindex
X-PUBLISHED-TTL:PT1H
BEGIN:VTIMEZONE
TZID:America/Chicago
BEGIN:DAYLIGHT
TZOFFSETFROM:-0600
TZOFFSETTO:-0500
TZNAME:CDT
DTSTART:20230312T080000
END:DAYLIGHT
BEGIN:STANDARD
TZOFFSETFROM:-0500
TZOFFSETTO:-0600
TZNAME:CST
DTSTART:20231105T070000
END:STANDARD
END:VTIMEZONE
BEGIN:VEVENT
DTSTART;TZID=America/Chicago:20231101T183000
DTEND;TZID=America/Chicago:20231101T220000
DTSTAMP:20260422T033518
CREATED:20231018T213023Z
LAST-MODIFIED:20231031T193754Z
UID:10870-1698863400-1698876000@theelectricbelle.com
SUMMARY:Latin Dance Night in The Royal at Stovehouse!
DESCRIPTION:Join us in The Royal for a Latin Dance Night Wednesday\, November 1st from 6:30 pm – 10 pm! \nBachata and Salsa beginner level lessons will be taught\, followed by social dancing. \nWe will also have drink specials for the evening\, for anyone needing a little liquid courage! \nJoin us for a night full of fun led by Latin dance instructor Carlos!
URL:https://theelectricbelle.com/event/latin-dance-night-in-the-electric-belle-2/
LOCATION:The Royal at Stovehouse
ATTACH;FMTTYPE=image/jpeg:https://theelectricbelle.com/wp-content/uploads/2023/10/FB-Latin-Dancing-2.jpg
END:VEVENT
END:VCALENDAR